BEGIN:VCALENDAR
VERSION:2.0
PRODID:-//AEVCPV - ECPv6.15.20//NONSGML v1.0//EN
CALSCALE:GREGORIAN
METHOD:PUBLISH
X-WR-CALNAME:AEVCPV
X-ORIGINAL-URL:https://aevcpv.org/en/
X-WR-CALDESC:Events for AEVCPV
REFRESH-INTERVAL;VALUE=DURATION:PT1H
X-Robots-Tag:noindex
X-PUBLISHED-TTL:PT1H
BEGIN:VTIMEZONE
TZID:UTC
BEGIN:STANDARD
TZOFFSETFROM:+0000
TZOFFSETTO:+0000
TZNAME:UTC
DTSTART:20250101T000000
END:STANDARD
END:VTIMEZONE
BEGIN:VEVENT
DTSTART;TZID=UTC:20260831T080000
DTEND;TZID=UTC:20261031T170000
DTSTAMP:20260421T190132
CREATED:20260108T121507Z
LAST-MODIFIED:20260108T121507Z
UID:9044-1788163200-1793466000@aevcpv.org
SUMMARY:Child Education Support Program
DESCRIPTION:Our association is launching a program aimed at providing school supplies to children\nto enable them to return to school in good conditions. The objective is to support\ntheir education\, strengthen their learning\, and offer them better opportunities for\na promising future. Through this program\, each child will receive\nthe necessary support and resources to continue their schooling with\nconfidence.
URL:https://aevcpv.org/en/event/child-education-support-program/
LOCATION:Burundi Country\, Burundi\, Burundi
ATTACH;FMTTYPE=image/jpeg:https://aevcpv.org/wp-content/uploads/2025/06/featured2.jpeg
ORGANIZER;CN="AEVCPV":MAILTO:aevcpv@aevcpv.org
END:VEVENT
END:VCALENDAR