BEGIN:VCALENDAR
VERSION:2.0
PRODID:-//AEVCPV - ECPv6.15.20//NONSGML v1.0//EN
CALSCALE:GREGORIAN
METHOD:PUBLISH
X-WR-CALNAME:AEVCPV
X-ORIGINAL-URL:https://aevcpv.org
X-WR-CALDESC:Évènements pour AEVCPV
REFRESH-INTERVAL;VALUE=DURATION:PT1H
X-Robots-Tag:noindex
X-PUBLISHED-TTL:PT1H
BEGIN:VTIMEZONE
TZID:UTC
BEGIN:STANDARD
TZOFFSETFROM:+0000
TZOFFSETTO:+0000
TZNAME:UTC
DTSTART:20250101T000000
END:STANDARD
END:VTIMEZONE
BEGIN:VEVENT
DTSTART;VALUE=DATE:20260701
DTEND;VALUE=DATE:20260901
DTSTAMP:20260419T152131
CREATED:20260108T122217Z
LAST-MODIFIED:20260205T214740Z
UID:8760-1782864000-1788220799@aevcpv.org
SUMMARY:Rencontre internationale des dirigeants en Ouganda
DESCRIPTION:En juillet\, des dirigeants venant du Canada\, des États-Unis\, de France\, d’Australie\, du\nRwanda\, du Burundi\, d’Italie et d’autres pays se réuniront en Ouganda. Ce pays a été choisi\ncomme point de rencontre central\, accessible à tous\, plutôt que l’Amérique ou l’Australie.\nCette rencontre sera l’occasion de discuter des projets à venir\, planifier des actions et se\nvoir face à face. Elle reflète l’esprit de collaboration et d’unité entre les participants\, au-delà\ndes frontières\, pour construire ensemble un avenir commun.
URL:https://aevcpv.org/event/rencontre-internationale-des-dirigeants-en-ouganda/
LOCATION:Kampala City\, Kampala\, Uganda
ATTACH;FMTTYPE=image/jpeg:https://aevcpv.org/wp-content/uploads/2026/01/Kla.jpg
ORGANIZER;CN="AEVCPV":MAILTO:aevcpv@aevcpv.org
END:VEVENT
END:VCALENDAR